
BEGIN:VCALENDAR
VERSION:2.0
PRODID:-//MarkedsPartner AS//Umbraco CMS//NO
TIMEZONE-ID:Europe/Oslo
X-WR-TIMEZONE:Europe/Oslo


BEGIN:VEVENT
UID:abc6ab65943d465393f96c438c7d13b1
URL:https://stavangernaering-2023.azurewebsites.net/en/events/archive/viking141022/
ORGANIZER;CN=Ola Normann:MAILTO:ola.normann@markedspartner.no
DTSTAMP:20221012T160000Z
DTSTART:20221012T160000Z
DTEND:20221012T180000Z
LAST-MODIFIED:20221014T081713Z
SUMMARY:Football: Viking-Kristiansund
DESCRIPTION:Viking is our local football team in the Norwegian Premier League. They have had a lot of progress the last couple of years, and is a very good team! They also play their matches at one of the best stadiums in Norway (in Jåttåvagen).
X-ALT-DESC:Viking is our local football team in the Norwegian Premier League. They have had a lot of progress the last couple of years, and is a very good team! They also play their matches at one of the best stadiums in Norway (in J&#229;tt&#229;vagen).
LOCATION:SR-Bank Arena, J&#229;tt&#229;v&#229;gveien 11A, Stavanger
END:VEVENT


END:VCALENDAR



