
BEGIN:VCALENDAR
VERSION:2.0
PRODID:-//MarkedsPartner AS//Umbraco CMS//NO
TIMEZONE-ID:Europe/Oslo
X-WR-TIMEZONE:Europe/Oslo


BEGIN:VEVENT
UID:0285711d7a644f709a0825855e27249c
URL:https://stavangernaering-2023.azurewebsites.net/en/events/archive/uschamber/
ORGANIZER;CN=Ola Normann:MAILTO:ola.normann@markedspartner.no
DTSTAMP:20210518T070900Z
DTSTART:20210518T070900Z
DTEND:20210518T070900Z
LAST-MODIFIED:20210519T074716Z
SUMMARY:Global Forum U.S
DESCRIPTION:Register for the inaugural Global Forum on Economic Recovery led by U.S. Chamber.
X-ALT-DESC:Register for the inaugural Global Forum on Economic Recovery led by U.S. Chamber.
LOCATION:ONLINE
END:VEVENT


END:VCALENDAR



