
BEGIN:VCALENDAR
VERSION:2.0
PRODID:-//MarkedsPartner AS//Umbraco CMS//NO
TIMEZONE-ID:Europe/Oslo
X-WR-TIMEZONE:Europe/Oslo


BEGIN:VEVENT
UID:e4f2701cb3564974b11cf6e98f2dac3b
URL:https://stavangernaering-2023.azurewebsites.net/en/events/archive/ukraine-concert_april-2022/
ORGANIZER;CN=Ola Normann:MAILTO:ola.normann@markedspartner.no
DTSTAMP:20220407T173000Z
DTSTART:20220407T173000Z
DTEND:20220407T193000Z
LAST-MODIFIED:20220408T123221Z
SUMMARY:Solidarity Concert for Ukraine with SSO
DESCRIPTION:Stavanger Symphony Orchestra solidarity concert for Ukraine in Stavanger Concert Hall. The program includes Ukrainian, Russian and Finnish music, with the Moldovan baritone Andrey Zhilikhovsky and the Stavanger Symphony Orchestra on the podium. NRK journalist Morten Jentoft begins with a short speech.
X-ALT-DESC:Stavanger Symphony Orchestra solidarity concert for Ukraine in Stavanger Concert Hall. The program includes Ukrainian, Russian and Finnish music, with the Moldovan baritone Andrey Zhilikhovsky and the Stavanger Symphony Orchestra on the podium. NRK journalist Morten Jentoft begins with a short speech.
LOCATION:Stavanger Concert House
END:VEVENT


END:VCALENDAR



