
BEGIN:VCALENDAR
VERSION:2.0
PRODID:-//MarkedsPartner AS//Umbraco CMS//NO
TIMEZONE-ID:Europe/Oslo
X-WR-TIMEZONE:Europe/Oslo


BEGIN:VEVENT
UID:b33bf0f2a3844ab1bea3fb8f4c6c9f41
URL:https://stavangernaering-2023.azurewebsites.net/en/events/archive/uis-clean-energy-and-economics2023/
ORGANIZER;CN=Ola Normann:MAILTO:ola.normann@markedspartner.no
DTSTAMP:20221118T073000Z
DTSTART:20221118T073000Z
DTEND:20221118T164500Z
LAST-MODIFIED:20221119T063006Z
SUMMARY:UiS Clean Energy Law and Economics Conference
DESCRIPTION:This annual conference explores all aspects of clean energy, and clean energy law and economics in an understandable way.
X-ALT-DESC:This annual conference explores all aspects of clean energy, and clean energy law and economics in an understandable way.
LOCATION:UiS, Kjell Arholms Hus, Stort auditorium A1.
END:VEVENT


END:VCALENDAR



