
BEGIN:VCALENDAR
VERSION:2.0
PRODID:-//MarkedsPartner AS//Umbraco CMS//NO
TIMEZONE-ID:Europe/Oslo
X-WR-TIMEZONE:Europe/Oslo


BEGIN:VEVENT
UID:fae58fdc44e14596869bb2d3c54e6f57
URL:https://stavangernaering-2023.azurewebsites.net/en/events/archive/u37-afterwork_150224/
ORGANIZER;CN=Ola Normann:MAILTO:ola.normann@markedspartner.no
DTSTAMP:20240215T180000Z
DTSTART:20240215T180000Z
DTEND:20240215T210000Z
LAST-MODIFIED:20240219T071010Z
SUMMARY:U37 Afterwork x Innoasis
DESCRIPTION:Young and eager to expand your network? We invite you to an informal meeting arena for young professionals. This time we will dive into the innovation environment in the region.
X-ALT-DESC:Young and eager to expand your network? We invite you to an informal meeting arena for young professionals. This time we will dive into the innovation environment in the region.
LOCATION:Innoasis
END:VEVENT


END:VCALENDAR



