
BEGIN:VCALENDAR
VERSION:2.0
PRODID:-//MarkedsPartner AS//Umbraco CMS//NO
TIMEZONE-ID:Europe/Oslo
X-WR-TIMEZONE:Europe/Oslo


BEGIN:VEVENT
UID:b15c121c937b4f84bf4b2d8584becc76
URL:https://stavangernaering-2023.azurewebsites.net/en/events/archive/the-norwegian-health-system_2025/
ORGANIZER;CN=Ola Normann:MAILTO:ola.normann@markedspartner.no
DTSTAMP:20250325T170000Z
DTSTART:20250325T170000Z
DTEND:20250325T190000Z
LAST-MODIFIED:20250326T143235Z
SUMMARY:The Norwegian Health System
DESCRIPTION:Navigating a new healthcare system can be challenging, but understanding how it works can make all the difference!
X-ALT-DESC:Navigating a new healthcare system can be challenging, but understanding how it works can make all the difference!
LOCATION:Rosenkildehuset
END:VEVENT


END:VCALENDAR



