
BEGIN:VCALENDAR
VERSION:2.0
PRODID:-//MarkedsPartner AS//Umbraco CMS//NO
TIMEZONE-ID:Europe/Oslo
X-WR-TIMEZONE:Europe/Oslo


BEGIN:VEVENT
UID:0f00e353376c476b9827b5337afaed98
URL:https://stavangernaering-2023.azurewebsites.net/en/events/archive/the-best-of_-january-2022/
ORGANIZER;CN=Ola Normann:MAILTO:ola.normann@markedspartner.no
DTSTAMP:20220123T090000Z
DTSTART:20220123T090000Z
DTEND:20220123T152500Z
LAST-MODIFIED:20220124T085436Z
SUMMARY:Sunday hike
DESCRIPTION:Please join us for a beautiful walk along the beaches of Jæren AND the forest at Brekko.
X-ALT-DESC:Please join us for a beautiful walk along the beaches of J&#230;ren AND the forest at Brekko.
LOCATION:Byterminalen, Stavanger
END:VEVENT


END:VCALENDAR



