
BEGIN:VCALENDAR
VERSION:2.0
PRODID:-//MarkedsPartner AS//Umbraco CMS//NO
TIMEZONE-ID:Europe/Oslo
X-WR-TIMEZONE:Europe/Oslo


BEGIN:VEVENT
UID:539fd1e2acdf4884bec50065bf6a9672
URL:https://stavangernaering-2023.azurewebsites.net/en/events/archive/terran-community_250324/
ORGANIZER;CN=Ola Normann:MAILTO:ola.normann@markedspartner.no
DTSTAMP:20240425T163000Z
DTSTART:20240425T163000Z
DTEND:20240425T193000Z
LAST-MODIFIED:20240429T055004Z
SUMMARY:Terran: Business beyond profit
DESCRIPTION:Imagine a world where businesses aren't just profit-driven entities but are also engines for positive change, where every decision is guided by a deeper purpose beyond the bottom line. This vision is at the heart of this interactive session at Terran Community space located on the east side of Stavanger.
X-ALT-DESC:Imagine a world where businesses aren&#39;t just profit-driven entities but are also engines for positive change, where every decision is guided by a deeper purpose beyond the bottom line. This vision is at the heart of this interactive session at Terran Community space located on the east side of Stavanger.
LOCATION:Terran - Nymansveien 40A, 4014 Stavanger
END:VEVENT


END:VCALENDAR



