
BEGIN:VCALENDAR
VERSION:2.0
PRODID:-//MarkedsPartner AS//Umbraco CMS//NO
TIMEZONE-ID:Europe/Oslo
X-WR-TIMEZONE:Europe/Oslo


BEGIN:VEVENT
UID:d77ec436138c41a09d2d824359a6ba6e
URL:https://stavangernaering-2023.azurewebsites.net/en/events/archive/tennis_21-06-20/
ORGANIZER;CN=Ola Normann:MAILTO:ola.normann@markedspartner.no
DTSTAMP:20200621T100000Z
DTSTART:20200621T100000Z
DTEND:20200621T120000Z
LAST-MODIFIED:20200622T145356Z
SUMMARY:Sunday Tennis!
DESCRIPTION:Join us for a session of Sunday Tennis!
X-ALT-DESC:Join us for a session of Sunday Tennis!
LOCATION:Stavanger tennis klubb, Tjensvoll
END:VEVENT


END:VCALENDAR



