
BEGIN:VCALENDAR
VERSION:2.0
PRODID:-//MarkedsPartner AS//Umbraco CMS//NO
TIMEZONE-ID:Europe/Oslo
X-WR-TIMEZONE:Europe/Oslo


BEGIN:VEVENT
UID:76d9389e40de45b4bbffe9ce2920f626
URL:https://stavangernaering-2023.azurewebsites.net/en/events/archive/technight-edrilling/
ORGANIZER;CN=Ola Normann:MAILTO:ola.normann@markedspartner.no
DTSTAMP:20241031T170000Z
DTSTART:20241031T170000Z
DTEND:20241031T190000Z
LAST-MODIFIED:20241105T095424Z
SUMMARY:Tech Night at eDrillling
DESCRIPTION:This is a great opportunity to see innovative technology with purpose !
X-ALT-DESC:This is a great opportunity to see innovative technology with purpose !
LOCATION:Maskinveien 9, 4033 Stavanger
END:VEVENT


END:VCALENDAR



