
BEGIN:VCALENDAR
VERSION:2.0
PRODID:-//MarkedsPartner AS//Umbraco CMS//NO
TIMEZONE-ID:Europe/Oslo
X-WR-TIMEZONE:Europe/Oslo


BEGIN:VEVENT
UID:9b952f1470d04ce3b5ecd5486b69d18f
URL:https://stavangernaering-2023.azurewebsites.net/en/events/archive/tech-night_october2023/
ORGANIZER;CN=Ola Normann:MAILTO:ola.normann@markedspartner.no
DTSTAMP:20231019T163000Z
DTSTART:20231019T163000Z
DTEND:20231019T183000Z
LAST-MODIFIED:20231020T060748Z
SUMMARY:Tech Night: Solar Energy
DESCRIPTION:Let´s talk about sun! For business and environment. We are delighted to invite you to Norsk Solar in Stavanger.
X-ALT-DESC:Let&#180;s talk about sun! For business and environment. We are delighted to invite you to Norsk Solar in Stavanger.
LOCATION:Norsk Solar, Haakon VIIs gate 8, Svg.
END:VEVENT


END:VCALENDAR



