
BEGIN:VCALENDAR
VERSION:2.0
PRODID:-//MarkedsPartner AS//Umbraco CMS//NO
TIMEZONE-ID:Europe/Oslo
X-WR-TIMEZONE:Europe/Oslo


BEGIN:VEVENT
UID:e02737c250614d30bc109a18a76643ed
URL:https://stavangernaering-2023.azurewebsites.net/en/events/archive/tech-night_nov2022/
ORGANIZER;CN=Ola Normann:MAILTO:ola.normann@markedspartner.no
DTSTAMP:20221108T173000Z
DTSTART:20221108T173000Z
DTEND:20221108T200000Z
LAST-MODIFIED:20221109T153044Z
SUMMARY:Tech Night: Sensor technology
DESCRIPTION:Psyched about technology? Then this is for you! Sign up and soak up the knowledge. This will be a melting pot across academia, business and public sector.
X-ALT-DESC:Psyched about technology? Then this is for you! Sign up and soak up the knowledge. This will be a melting pot across academia, business and public sector.
LOCATION:Innoasis, Sverdrupsgate 27, Stavanger
END:VEVENT


END:VCALENDAR



