
BEGIN:VCALENDAR
VERSION:2.0
PRODID:-//MarkedsPartner AS//Umbraco CMS//NO
TIMEZONE-ID:Europe/Oslo
X-WR-TIMEZONE:Europe/Oslo


BEGIN:VEVENT
UID:c495c943e0a145758ffeec85bb41cb90
URL:https://stavangernaering-2023.azurewebsites.net/en/events/archive/tech-night_may2023/
ORGANIZER;CN=Ola Normann:MAILTO:ola.normann@markedspartner.no
DTSTAMP:20230525T160000Z
DTSTART:20230525T160000Z
DTEND:20230525T183000Z
LAST-MODIFIED:20230529T204556Z
SUMMARY:Tech Night: Innovation at Aarbakke AS
DESCRIPTION:Get inspired by Aarbakke and Aarbakke innovation!
X-ALT-DESC:Get inspired by Aarbakke and Aarbakke innovation!
LOCATION:Aarbakke, Langmyra 1, Bryne
END:VEVENT


END:VCALENDAR



