
BEGIN:VCALENDAR
VERSION:2.0
PRODID:-//MarkedsPartner AS//Umbraco CMS//NO
TIMEZONE-ID:Europe/Oslo
X-WR-TIMEZONE:Europe/Oslo


BEGIN:VEVENT
UID:0e6d6500378249bcb34d4ac037dbc513
URL:https://stavangernaering-2023.azurewebsites.net/en/events/archive/tech-night_march2023/
ORGANIZER;CN=Ola Normann:MAILTO:ola.normann@markedspartner.no
DTSTAMP:20230328T163000Z
DTSTART:20230328T163000Z
DTEND:20230328T190000Z
LAST-MODIFIED:20230329T172517Z
SUMMARY:Tech Night: Chatbot
DESCRIPTION:Learn all about Chatbots and how we best could make use of them.
X-ALT-DESC:Learn all about Chatbots and how we best could make use of them.
LOCATION:PwC Energy Experience Center, 4th floor, Kanalsletta 8, Forus
END:VEVENT


END:VCALENDAR



