
BEGIN:VCALENDAR
VERSION:2.0
PRODID:-//MarkedsPartner AS//Umbraco CMS//NO
TIMEZONE-ID:Europe/Oslo
X-WR-TIMEZONE:Europe/Oslo


BEGIN:VEVENT
UID:c7a6d34091134475809d458d99cd3e40
URL:https://stavangernaering-2023.azurewebsites.net/en/events/archive/tech-night_jan2023/
ORGANIZER;CN=Ola Normann:MAILTO:ola.normann@markedspartner.no
DTSTAMP:20230117T173000Z
DTSTART:20230117T173000Z
DTEND:20230117T200000Z
LAST-MODIFIED:20230119T183309Z
SUMMARY:Tech Night: 5G and Tech Trends
DESCRIPTION:Welcome to TECH-NIGHT - an informal meeting place for everyone who's psyched about technology in all it's glory!
X-ALT-DESC:Welcome to TECH-NIGHT - an informal meeting place for everyone who&#39;s psyched about technology in all it&#39;s glory!
LOCATION:Futurum, Laberget 26, 4028 Stavanger.
END:VEVENT


END:VCALENDAR



