
BEGIN:VCALENDAR
VERSION:2.0
PRODID:-//MarkedsPartner AS//Umbraco CMS//NO
TIMEZONE-ID:Europe/Oslo
X-WR-TIMEZONE:Europe/Oslo


BEGIN:VEVENT
UID:6a09a4678b4e4a2999fe7f0d0ab8a1a6
URL:https://stavangernaering-2023.azurewebsites.net/en/events/archive/tech-night_interwell24/
ORGANIZER;CN=Ola Normann:MAILTO:ola.normann@markedspartner.no
DTSTAMP:20250220T170000Z
DTSTART:20250220T170000Z
DTEND:20250220T190000Z
LAST-MODIFIED:20250221T141451Z
SUMMARY:Tech Night: Interwell
DESCRIPTION:We are excited to invite you to TECH NIGHT to discuss topics including Interwell's new location that reflects their re-branding and ESG commitments.
X-ALT-DESC:We are excited to invite you to TECH NIGHT to discuss topics including Interwell&#39;s new location that reflects their re-branding and ESG commitments.
LOCATION:Moseidsletta 34, 4052 R&#248;yneberg
END:VEVENT


END:VCALENDAR



