
BEGIN:VCALENDAR
VERSION:2.0
PRODID:-//MarkedsPartner AS//Umbraco CMS//NO
TIMEZONE-ID:Europe/Oslo
X-WR-TIMEZONE:Europe/Oslo


BEGIN:VEVENT
UID:8ed764712c0249ff9f85dd2bfcec6681
URL:https://stavangernaering-2023.azurewebsites.net/en/events/archive/tech-night_ark25/
ORGANIZER;CN=Ola Normann:MAILTO:ola.normann@markedspartner.no
DTSTAMP:20250319T170000Z
DTSTART:20250319T170000Z
DTEND:20250319T193000Z
LAST-MODIFIED:20250321T084522Z
SUMMARY:Tech Night at Site 4016 
DESCRIPTION:At Site 4016 the aim is to unite technology, innovation and human interaction to create a premium customer and tenant experience.
X-ALT-DESC:At Site 4016 the aim is to unite technology, innovation and human interaction to create a premium customer and tenant experience.
LOCATION:Site 4016 - ARK, Auglendsmyr&#229; 11, 4016 Stavanger
END:VEVENT


END:VCALENDAR



