
BEGIN:VCALENDAR
VERSION:2.0
PRODID:-//MarkedsPartner AS//Umbraco CMS//NO
TIMEZONE-ID:Europe/Oslo
X-WR-TIMEZONE:Europe/Oslo


BEGIN:VEVENT
UID:64a56ea826a84eb5ad73d4200f1fd500
URL:https://stavangernaering-2023.azurewebsites.net/en/events/archive/tech-night/
ORGANIZER;CN=Ola Normann:MAILTO:ola.normann@markedspartner.no
DTSTAMP:20240910T160000Z
DTSTART:20240910T160000Z
DTEND:20240910T180000Z
LAST-MODIFIED:20240911T091949Z
SUMMARY:Tech Night at Laerdal Medical
DESCRIPTION:This is a great opportunity to see innovative technology and the future of healthcare!
X-ALT-DESC:This is a great opportunity to see innovative technology and the future of healthcare!
LOCATION:L&#230;rdal Medical
END:VEVENT


END:VCALENDAR



