
BEGIN:VCALENDAR
VERSION:2.0
PRODID:-//MarkedsPartner AS//Umbraco CMS//NO
TIMEZONE-ID:Europe/Oslo
X-WR-TIMEZONE:Europe/Oslo


BEGIN:VEVENT
UID:c72c2c1dae074e5cb88efc99cef7eea3
URL:https://stavangernaering-2023.azurewebsites.net/en/events/archive/taxation_march2025/
ORGANIZER;CN=Ola Normann:MAILTO:ola.normann@markedspartner.no
DTSTAMP:20250327T170000Z
DTSTART:20250327T170000Z
DTEND:20250327T193000Z
LAST-MODIFIED:20250328T084101Z
SUMMARY:Norwegian tax system
DESCRIPTION:An introduction to the Norwegian tax system and filling out the tax return.
X-ALT-DESC:An introduction to the Norwegian tax system and filling out the tax return.
LOCATION:Rosenkildehuset, Strandkaien 6, 4005 Stavanger
END:VEVENT


END:VCALENDAR



