
BEGIN:VCALENDAR
VERSION:2.0
PRODID:-//MarkedsPartner AS//Umbraco CMS//NO
TIMEZONE-ID:Europe/Oslo
X-WR-TIMEZONE:Europe/Oslo


BEGIN:VEVENT
UID:5b83723c5e7f447eac98681e0a955eda
URL:https://stavangernaering-2023.azurewebsites.net/en/events/archive/taxation_march2024/
ORGANIZER;CN=Ola Normann:MAILTO:ola.normann@markedspartner.no
DTSTAMP:20240320T170000Z
DTSTART:20240320T170000Z
DTEND:20240320T193000Z
LAST-MODIFIED:20240321T122945Z
SUMMARY:Norwegian tax system
DESCRIPTION:An introduction to the Norwegian tax system and filling out the tax return.
X-ALT-DESC:An introduction to the Norwegian tax system and filling out the tax return.
LOCATION:Rosenkildehuset, Strandkaien 6, 4005 Stavanger
END:VEVENT


END:VCALENDAR



