
BEGIN:VCALENDAR
VERSION:2.0
PRODID:-//MarkedsPartner AS//Umbraco CMS//NO
TIMEZONE-ID:Europe/Oslo
X-WR-TIMEZONE:Europe/Oslo


BEGIN:VEVENT
UID:14f4ff19b8594e70a857daf20e1dff9c
URL:https://stavangernaering-2023.azurewebsites.net/en/events/archive/taxation_march2023/
ORGANIZER;CN=Ola Normann:MAILTO:ola.normann@markedspartner.no
DTSTAMP:20230322T173000Z
DTSTART:20230322T173000Z
DTEND:20230322T200000Z
LAST-MODIFIED:20230323T112247Z
SUMMARY:Norwegian tax system
DESCRIPTION:An introduction to the Norwegian tax system and filling out the tax return.
X-ALT-DESC:An introduction to the Norwegian tax system and filling out the tax return.
LOCATION:Rosenkildehuset, Strandkaien 6, 4005 Stavanger
END:VEVENT


END:VCALENDAR



