
BEGIN:VCALENDAR
VERSION:2.0
PRODID:-//MarkedsPartner AS//Umbraco CMS//NO
TIMEZONE-ID:Europe/Oslo
X-WR-TIMEZONE:Europe/Oslo


BEGIN:VEVENT
UID:e008624940ef42c2b66b6a5be412bf34
URL:https://stavangernaering-2023.azurewebsites.net/en/events/archive/taxation_march2023-2/
ORGANIZER;CN=Ola Normann:MAILTO:ola.normann@markedspartner.no
DTSTAMP:20230330T160000Z
DTSTART:20230330T160000Z
DTEND:20230330T183000Z
LAST-MODIFIED:20230331T125907Z
SUMMARY:Norwegian tax system
DESCRIPTION:An introduction to the Norwegian tax system and filling out the tax return.
X-ALT-DESC:An introduction to the Norwegian tax system and filling out the tax return.
LOCATION:Rosenkildehuset, Strandkaien 6, 4005 Stavanger
END:VEVENT


END:VCALENDAR



