
BEGIN:VCALENDAR
VERSION:2.0
PRODID:-//MarkedsPartner AS//Umbraco CMS//NO
TIMEZONE-ID:Europe/Oslo
X-WR-TIMEZONE:Europe/Oslo


BEGIN:VEVENT
UID:ae6d43b35ed5498b9984813650152241
URL:https://stavangernaering-2023.azurewebsites.net/en/events/archive/taxation_310322/
ORGANIZER;CN=Ola Normann:MAILTO:ola.normann@markedspartner.no
DTSTAMP:20220331T163000Z
DTSTART:20220331T163000Z
DTEND:20220331T190000Z
LAST-MODIFIED:20220331T172017Z
SUMMARY:Norwegian tax system
DESCRIPTION:An introduction to the Norwegian tax system and filling out the tax return.
X-ALT-DESC:An introduction to the Norwegian tax system and filling out the tax return.
LOCATION:Rosenkildehuset, Strandkaien 6, 4005 Stavanger
END:VEVENT


END:VCALENDAR



