
BEGIN:VCALENDAR
VERSION:2.0
PRODID:-//MarkedsPartner AS//Umbraco CMS//NO
TIMEZONE-ID:Europe/Oslo
X-WR-TIMEZONE:Europe/Oslo


BEGIN:VEVENT
UID:98315a6532034afabc789a7f1685aab0
URL:https://stavangernaering-2023.azurewebsites.net/en/events/archive/taxation_160321/
ORGANIZER;CN=Ola Normann:MAILTO:ola.normann@markedspartner.no
DTSTAMP:20210316T173000Z
DTSTART:20210316T173000Z
DTEND:20210316T193000Z
LAST-MODIFIED:20210316T201026Z
SUMMARY:Norwegian tax system
DESCRIPTION:VIRTUAL CONFERENCE: An introduction to the Norwegian tax system and filling out the tax return.
X-ALT-DESC:VIRTUAL CONFERENCE: An introduction to the Norwegian tax system and filling out the tax return.
LOCATION:Virtual conference
END:VEVENT


END:VCALENDAR



