
BEGIN:VCALENDAR
VERSION:2.0
PRODID:-//MarkedsPartner AS//Umbraco CMS//NO
TIMEZONE-ID:Europe/Oslo
X-WR-TIMEZONE:Europe/Oslo


BEGIN:VEVENT
UID:6198ee9f33964593b06fb18eadfe1d63
URL:https://stavangernaering-2023.azurewebsites.net/en/events/archive/taxation/
ORGANIZER;CN=Ola Normann:MAILTO:ola.normann@markedspartner.no
DTSTAMP:20200317T180000Z
DTSTART:20200317T180000Z
DTEND:20200317T203000Z
LAST-MODIFIED:20200612T113330Z
SUMMARY:Webinar: Taxation
DESCRIPTION:An introduction to the Norwegian tax system and filling out the tax return.
X-ALT-DESC:An introduction to the Norwegian tax system and filling out the tax return.
LOCATION:Rosenkildehuset
END:VEVENT


END:VCALENDAR



