
BEGIN:VCALENDAR
VERSION:2.0
PRODID:-//MarkedsPartner AS//Umbraco CMS//NO
TIMEZONE-ID:Europe/Oslo
X-WR-TIMEZONE:Europe/Oslo


BEGIN:VEVENT
UID:594ddc63fb2c4b0ea88cc40e646fdafe
URL:https://stavangernaering-2023.azurewebsites.net/en/events/archive/sustainability-vs-circularity_2022/
ORGANIZER;CN=Ola Normann:MAILTO:ola.normann@markedspartner.no
DTSTAMP:20221014T140000Z
DTSTART:20221014T140000Z
DTEND:20221014T150000Z
LAST-MODIFIED:20221016T073956Z
SUMMARY:Sustainability VS Circularity
DESCRIPTION:The economic challenge – doing unsustainable but circular / circular but linear business - what pays better?
X-ALT-DESC:The economic challenge – doing unsustainable but circular / circular but linear business - what pays better?
LOCATION:Rosenkildehuset, Strandkaien 6, 4005 Stavanger
END:VEVENT


END:VCALENDAR



