
BEGIN:VCALENDAR
VERSION:2.0
PRODID:-//MarkedsPartner AS//Umbraco CMS//NO
TIMEZONE-ID:Europe/Oslo
X-WR-TIMEZONE:Europe/Oslo


BEGIN:VEVENT
UID:ad10510613e24d3cbf20ed837e174273
URL:https://stavangernaering-2023.azurewebsites.net/en/events/archive/sundaytennis_140221/
ORGANIZER;CN=Ola Normann:MAILTO:ola.normann@markedspartner.no
DTSTAMP:20210425T100000Z
DTSTART:20210425T100000Z
DTEND:20210425T120000Z
LAST-MODIFIED:20210506T064038Z
SUMMARY:POSTPONED: Sunday Tennis!
DESCRIPTION:Due to new Covid-19 restrictions this event is cancelled.
X-ALT-DESC:Due to new Covid-19 restrictions this event is cancelled.
LOCATION:Hafrsfjord Tennis Play Court
END:VEVENT


END:VCALENDAR



