
BEGIN:VCALENDAR
VERSION:2.0
PRODID:-//MarkedsPartner AS//Umbraco CMS//NO
TIMEZONE-ID:Europe/Oslo
X-WR-TIMEZONE:Europe/Oslo


BEGIN:VEVENT
UID:9671a41de8d645ecb22c187aaf5cd4fe
URL:https://stavangernaering-2023.azurewebsites.net/en/events/archive/sundaytennis-290522/
ORGANIZER;CN=Ola Normann:MAILTO:ola.normann@markedspartner.no
DTSTAMP:20220529T130000Z
DTSTART:20220529T130000Z
DTEND:20220529T150000Z
LAST-MODIFIED:20220531T130903Z
SUMMARY:Sunday Tennis!
DESCRIPTION:Join us for an afternoon of Tennis and Fun!
X-ALT-DESC:Join us for an afternoon of Tennis and Fun!
LOCATION:Stavanger Tennis Club, Tjensvoll
END:VEVENT


END:VCALENDAR



