
BEGIN:VCALENDAR
VERSION:2.0
PRODID:-//MarkedsPartner AS//Umbraco CMS//NO
TIMEZONE-ID:Europe/Oslo
X-WR-TIMEZONE:Europe/Oslo


BEGIN:VEVENT
UID:0e5df9859c264f5b845ac0df1dc7ea55
URL:https://stavangernaering-2023.azurewebsites.net/en/events/archive/sundaytennis-161022/
ORGANIZER;CN=Ola Normann:MAILTO:ola.normann@markedspartner.no
DTSTAMP:20221016T090000Z
DTSTART:20221016T090000Z
DTEND:20221016T110000Z
LAST-MODIFIED:20221019T061229Z
SUMMARY:Sunday Tennis!
DESCRIPTION:Join in for a session of Sunday Tennis!
X-ALT-DESC:Join in for a session of Sunday Tennis!
LOCATION:Stavanger Tennis Club (Tjensvoll).
END:VEVENT


END:VCALENDAR



