
BEGIN:VCALENDAR
VERSION:2.0
PRODID:-//MarkedsPartner AS//Umbraco CMS//NO
TIMEZONE-ID:Europe/Oslo
X-WR-TIMEZONE:Europe/Oslo


BEGIN:VEVENT
UID:67fbf4249fc442d897425a7d7f648449
URL:https://stavangernaering-2023.azurewebsites.net/en/events/archive/sunday-tennis/
ORGANIZER;CN=Ola Normann:MAILTO:ola.normann@markedspartner.no
DTSTAMP:20191201T100000Z
DTSTART:20191201T100000Z
DTEND:20191201T120000Z
LAST-MODIFIED:20200612T113327Z
SUMMARY:Join us for Sunday Tennis!
DESCRIPTION:We invite you to an informal session of tennis. Beginner or expert? It doesn't matter!
X-ALT-DESC:We invite you to an informal session of tennis. Beginner or expert? It doesn&#39;t matter!
LOCATION:Stavanger Tennisklubb, Tjensvoll
END:VEVENT


END:VCALENDAR



