
BEGIN:VCALENDAR
VERSION:2.0
PRODID:-//MarkedsPartner AS//Umbraco CMS//NO
TIMEZONE-ID:Europe/Oslo
X-WR-TIMEZONE:Europe/Oslo


BEGIN:VEVENT
UID:7fdee2049678474ea9ee58680449259a
URL:https://stavangernaering-2023.azurewebsites.net/en/events/archive/sunday-social_261221/
ORGANIZER;CN=Ola Normann:MAILTO:ola.normann@markedspartner.no
DTSTAMP:20211226T094000Z
DTSTART:20211226T094000Z
DTEND:20211226T154000Z
LAST-MODIFIED:20211228T092702Z
SUMMARY:Sunday hike: Hellvik - Egersund
DESCRIPTION:Join us for a wonderful Sunday hike from  Hellvik to Egersund. : Easy terrain, nice view and a lot of history.
X-ALT-DESC:Join us for a wonderful Sunday hike from  Hellvik to Egersund. : Easy terrain, nice view and a lot of history.
LOCATION:Hellvik
END:VEVENT


END:VCALENDAR



