
BEGIN:VCALENDAR
VERSION:2.0
PRODID:-//MarkedsPartner AS//Umbraco CMS//NO
TIMEZONE-ID:Europe/Oslo
X-WR-TIMEZONE:Europe/Oslo


BEGIN:VEVENT
UID:a87b7e66210c479a9459ac2d6a125bb0
URL:https://stavangernaering-2023.azurewebsites.net/en/events/archive/sunday-social_190921-1/
ORGANIZER;CN=Ola Normann:MAILTO:ola.normann@markedspartner.no
DTSTAMP:20210919T074500Z
DTSTART:20210919T074500Z
DTEND:20210919T134500Z
LAST-MODIFIED:20211222T113233Z
SUMMARY: Sunday hike: Hellvik - Egersund
DESCRIPTION:Join us for a wonderful Sunday hike from  Hellvik to Egersund. : Easy terrain, nice view and a lot of history.
X-ALT-DESC:Join us for a wonderful Sunday hike from  Hellvik to Egersund. : Easy terrain, nice view and a lot of history.
LOCATION:Egersund and Hellvik
END:VEVENT


END:VCALENDAR



