
BEGIN:VCALENDAR
VERSION:2.0
PRODID:-//MarkedsPartner AS//Umbraco CMS//NO
TIMEZONE-ID:Europe/Oslo
X-WR-TIMEZONE:Europe/Oslo


BEGIN:VEVENT
UID:11e3de4fe6224d7b90f230c3b2bbe727
URL:https://stavangernaering-2023.azurewebsites.net/en/events/archive/sunday-hike_300521/
ORGANIZER;CN=Ola Normann:MAILTO:ola.normann@markedspartner.no
DTSTAMP:20210530T090000Z
DTSTART:20210530T090000Z
DTEND:20210530T150000Z
LAST-MODIFIED:20210531T055345Z
SUMMARY:Spectacular hike to Rennesøyhodnet
DESCRIPTION:Rennesøyhodnet is an amazing destination located at Rennesøy with panorama view.
X-ALT-DESC:Rennes&#248;yhodnet is an amazing destination located at Rennes&#248;y with panorama view.
LOCATION:Hegglandslia,  Rennes&#248;y
END:VEVENT


END:VCALENDAR



