
BEGIN:VCALENDAR
VERSION:2.0
PRODID:-//MarkedsPartner AS//Umbraco CMS//NO
TIMEZONE-ID:Europe/Oslo
X-WR-TIMEZONE:Europe/Oslo


BEGIN:VEVENT
UID:fdb6fb0ac5814b95a3919284b3f6ce9e
URL:https://stavangernaering-2023.azurewebsites.net/en/events/archive/sunday-hike-gramstad_nov2022/
ORGANIZER;CN=Ola Normann:MAILTO:ola.normann@markedspartner.no
DTSTAMP:20221120T110000Z
DTSTART:20221120T110000Z
DTEND:20221120T160000Z
LAST-MODIFIED:20221120T183004Z
SUMMARY:Sunday hike from Gramstadtunet
DESCRIPTION:Are you ready for an impulsive walk and talk from Gramstad this sunny November Sunday?
X-ALT-DESC:Are you ready for an impulsive walk and talk from Gramstad this sunny November Sunday?
LOCATION:Gramstadtunet,  Sandnes
END:VEVENT


END:VCALENDAR



