
BEGIN:VCALENDAR
VERSION:2.0
PRODID:-//MarkedsPartner AS//Umbraco CMS//NO
TIMEZONE-ID:Europe/Oslo
X-WR-TIMEZONE:Europe/Oslo


BEGIN:VEVENT
UID:2fac6d6caf57465291d1481be190c9d4
URL:https://stavangernaering-2023.azurewebsites.net/en/events/archive/summer-social_150621/
ORGANIZER;CN=Ola Normann:MAILTO:ola.normann@markedspartner.no
DTSTAMP:20210615T163000Z
DTSTART:20210615T163000Z
DTEND:20210615T183000Z
LAST-MODIFIED:20210616T082443Z
SUMMARY:A fun evening by the coast
DESCRIPTION:The coast by Godalen is filled with a lot of beautiful places to enjoy all year around. Join us for an evening with Norwegian traditional outdoor games and be social with others.
X-ALT-DESC:The coast by Godalen is filled with a lot of beautiful places to enjoy all year around. Join us for an evening with Norwegian traditional outdoor games and be social with others.
LOCATION:Godalen
END:VEVENT


END:VCALENDAR



