
BEGIN:VCALENDAR
VERSION:2.0
PRODID:-//MarkedsPartner AS//Umbraco CMS//NO
TIMEZONE-ID:Europe/Oslo
X-WR-TIMEZONE:Europe/Oslo


BEGIN:VEVENT
UID:472b3fdd44b649c090821dc147d35ada
URL:https://stavangernaering-2023.azurewebsites.net/en/events/archive/summer-games-2024/
ORGANIZER;CN=Ola Normann:MAILTO:ola.normann@markedspartner.no
DTSTAMP:20240626T170000Z
DTSTART:20240626T170000Z
DTEND:20240626T200000Z
LAST-MODIFIED:20240628T073255Z
SUMMARY:Summer get together
DESCRIPTION:Let´s meet up and enjoy bright summer evenings. Catch up with fellow SCI'ers, meet newcomers and engage in some fun outdoor games.
X-ALT-DESC:Let&#180;s meet up and enjoy bright summer evenings. Catch up with fellow SCI&#39;ers, meet newcomers and engage in some fun outdoor games.
LOCATION: In Inger Tone&#180;s garden at Stokka
END:VEVENT


END:VCALENDAR



