
BEGIN:VCALENDAR
VERSION:2.0
PRODID:-//MarkedsPartner AS//Umbraco CMS//NO
TIMEZONE-ID:Europe/Oslo
X-WR-TIMEZONE:Europe/Oslo


BEGIN:VEVENT
UID:03ef3527ed8c4156b95c986927156305
URL:https://stavangernaering-2023.azurewebsites.net/en/events/archive/styreskolen_3_2024/
ORGANIZER;CN=Ola Normann:MAILTO:ola.normann@markedspartner.no
DTSTAMP:20241203T073000Z
DTSTART:20241203T073000Z
DTEND:20241203T103000Z
LAST-MODIFIED:20241211T180223Z
SUMMARY:AI transforming the future of leadership
DESCRIPTION:AI can help you  increase the efficiency of your organization. According to Strategy Professor Robert Kreuzbauer, this is a game changer that is often overlooked. He will  explain how AI can transform the future of leadership.
X-ALT-DESC:AI can help you  increase the efficiency of your organization. According to Strategy Professor Robert Kreuzbauer, this is a game changer that is often overlooked. He will  explain how AI can transform the future of leadership.
LOCATION:Rosenkildehuset
END:VEVENT


END:VCALENDAR



