
BEGIN:VCALENDAR
VERSION:2.0
PRODID:-//MarkedsPartner AS//Umbraco CMS//NO
TIMEZONE-ID:Europe/Oslo
X-WR-TIMEZONE:Europe/Oslo


BEGIN:VEVENT
UID:741682bf4e87488c9204bdae1441755a
URL:https://stavangernaering-2023.azurewebsites.net/en/events/archive/streaming-high-wind-2020/
ORGANIZER;CN=Ola Normann:MAILTO:ola.normann@markedspartner.no
DTSTAMP:20201104T080000Z
DTSTART:20201104T080000Z
DTEND:20201104T150000Z
LAST-MODIFIED:20201105T075748Z
SUMMARY:Streaming: HIGH WIND 2020
DESCRIPTION:Streaming of HIGH WIND 2020: What is reality, are we willing and capable to cap the potential of offshore wind? The backdrop is the recently released wind Europe report: our energy our future.
X-ALT-DESC:Streaming of HIGH WIND 2020: What is reality, are we willing and capable to cap the potential of offshore wind? The backdrop is the recently released wind Europe report: our energy our future.
LOCATION:Streaming
END:VEVENT


END:VCALENDAR



