
BEGIN:VCALENDAR
VERSION:2.0
PRODID:-//MarkedsPartner AS//Umbraco CMS//NO
TIMEZONE-ID:Europe/Oslo
X-WR-TIMEZONE:Europe/Oslo


BEGIN:VEVENT
UID:11ddbcff800049b084133f496c692a49
URL:https://stavangernaering-2023.azurewebsites.net/en/events/archive/sthans/
ORGANIZER;CN=Ola Normann:MAILTO:ola.normann@markedspartner.no
DTSTAMP:20240623T140000Z
DTSTART:20240623T140000Z
DTEND:20240623T200000Z
LAST-MODIFIED:20240625T093825Z
SUMMARY:Midsummer event at Fjøløy and Utstein
DESCRIPTION:We invite you to join us on a unique trip to Utstein and Fjøløy. Hoping for blue skys and a beautiful sunset as we mark Sankthans.
X-ALT-DESC:We invite you to join us on a unique trip to Utstein and Fj&#248;l&#248;y. Hoping for blue skys and a beautiful sunset as we mark Sankthans.
LOCATION:Utstein and Fj&#248;l&#248;y
END:VEVENT


END:VCALENDAR



