
BEGIN:VCALENDAR
VERSION:2.0
PRODID:-//MarkedsPartner AS//Umbraco CMS//NO
TIMEZONE-ID:Europe/Oslo
X-WR-TIMEZONE:Europe/Oslo


BEGIN:VEVENT
UID:d263fa7ac58a4501aa70bf5be35ac825
URL:https://stavangernaering-2023.azurewebsites.net/en/events/archive/stavangerstartupweekend_2022/
ORGANIZER;CN=Ola Normann:MAILTO:ola.normann@markedspartner.no
DTSTAMP:20220923T140000Z
DTSTART:20220923T140000Z
DTEND:20220925T140000Z
LAST-MODIFIED:20220927T054640Z
SUMMARY:54 Hours to Startup Success with Startup Weekend Stavanger
DESCRIPTION:Techstars Startup Weekend Stavanger 2022, September 23rd - 25th, is an exciting three-day immersion into the world of startups. You will learn how to think, work, and build like a startup.
X-ALT-DESC:Techstars Startup Weekend Stavanger 2022, September 23rd - 25th, is an exciting three-day immersion into the world of startups. You will learn how to think, work, and build like a startup.
LOCATION:Innovation Dock. Bryggerikaien 12-24, 4012 Stavanger
END:VEVENT


END:VCALENDAR



