
BEGIN:VCALENDAR
VERSION:2.0
PRODID:-//MarkedsPartner AS//Umbraco CMS//NO
TIMEZONE-ID:Europe/Oslo
X-WR-TIMEZONE:Europe/Oslo


BEGIN:VEVENT
UID:b45b83c0ff51497eaab155d7344537d6
URL:https://stavangernaering-2023.azurewebsites.net/en/events/archive/stavanger-opportunity_070921-1/
ORGANIZER;CN=Ola Normann:MAILTO:ola.normann@markedspartner.no
DTSTAMP:20210907T163000Z
DTSTART:20210907T163000Z
DTEND:20210907T190000Z
LAST-MODIFIED:20210908T182811Z
SUMMARY:Stavanger as an international arena
DESCRIPTION:Stavanger Opportunity wants to strengthen the region's position as inclusive and international.
X-ALT-DESC:Stavanger Opportunity wants to strengthen the region&#39;s position as inclusive and international.
LOCATION:Rosenkildehuset
END:VEVENT


END:VCALENDAR



