
BEGIN:VCALENDAR
VERSION:2.0
PRODID:-//MarkedsPartner AS//Umbraco CMS//NO
TIMEZONE-ID:Europe/Oslo
X-WR-TIMEZONE:Europe/Oslo


BEGIN:VEVENT
UID:a927ffb5bff140abb5d664d059d8a437
URL:https://stavangernaering-2023.azurewebsites.net/en/events/archive/stavanger-city-tour_september-2021/
ORGANIZER;CN=Ola Normann:MAILTO:ola.normann@markedspartner.no
DTSTAMP:20210902T080000Z
DTSTART:20210902T080000Z
DTEND:20210902T093000Z
LAST-MODIFIED:20210903T125358Z
SUMMARY:Stavanger City Tour
DESCRIPTION:New in town, and curious about opportunities within cultural activities, shopping, dining and the small secrets?
Here is your chance to get acquainted with the city of Stavanger!
X-ALT-DESC:New in town, and curious about opportunities within cultural activities, shopping, dining and the small secrets?
Here is your chance to get acquainted with the city of Stavanger!
LOCATION:Rosenkildehuset
END:VEVENT


END:VCALENDAR



