
BEGIN:VCALENDAR
VERSION:2.0
PRODID:-//MarkedsPartner AS//Umbraco CMS//NO
TIMEZONE-ID:Europe/Oslo
X-WR-TIMEZONE:Europe/Oslo


BEGIN:VEVENT
UID:4c26d1506c914626beef9194bebb55fa
URL:https://stavangernaering-2023.azurewebsites.net/en/events/archive/stavanger-an-attractive-finance-hub/
ORGANIZER;CN=Ola Normann:MAILTO:ola.normann@markedspartner.no
DTSTAMP:20201015T163000Z
DTSTART:20201015T163000Z
DTEND:20201015T200000Z
LAST-MODIFIED:20201016T115124Z
SUMMARY:Stavanger – an attractive financial centre
DESCRIPTION:Finance master students are invited to a social evening together with the established​ finance institutions in Stavanger.
X-ALT-DESC:Finance master students are invited to a social evening together with the established​ finance institutions in Stavanger.
LOCATION:Rosenkildehuset
END:VEVENT


END:VCALENDAR



