
BEGIN:VCALENDAR
VERSION:2.0
PRODID:-//MarkedsPartner AS//Umbraco CMS//NO
TIMEZONE-ID:Europe/Oslo
X-WR-TIMEZONE:Europe/Oslo


BEGIN:VEVENT
UID:35b23102ec574d6eaabce5f5ee49f226
URL:https://stavangernaering-2023.azurewebsites.net/en/events/archive/stavanger-2025_nov-2024/
ORGANIZER;CN=Ola Normann:MAILTO:ola.normann@markedspartner.no
DTSTAMP:20241127T173000Z
DTSTART:20241127T173000Z
DTEND:20241127T200000Z
LAST-MODIFIED:20241128T142706Z
SUMMARY:Stavanger 2025 
DESCRIPTION:In 2025, Stavanger will mark its 900th anniversary with grand celebrations! Art - culture - dance - outdoor activities - people and much more!
X-ALT-DESC:In 2025, Stavanger will mark its 900th anniversary with grand celebrations! Art - culture - dance - outdoor activities - people and much more!
LOCATION:Rosenkildehuset, Strandkaien 6, 4005 Stavanger
END:VEVENT


END:VCALENDAR



