
BEGIN:VCALENDAR
VERSION:2.0
PRODID:-//MarkedsPartner AS//Umbraco CMS//NO
TIMEZONE-ID:Europe/Oslo
X-WR-TIMEZONE:Europe/Oslo


BEGIN:VEVENT
UID:372356c003114f2bb609ee68dcd412f7
URL:https://stavangernaering-2023.azurewebsites.net/en/events/archive/stavanger-2025/
ORGANIZER;CN=Ola Normann:MAILTO:ola.normann@markedspartner.no
DTSTAMP:20240523T163000Z
DTSTART:20240523T163000Z
DTEND:20240523T190000Z
LAST-MODIFIED:20240527T053903Z
SUMMARY:Stavanger 2025 
DESCRIPTION:In 2025, Stavanger will mark its 900th anniversary with grand celebrations!
X-ALT-DESC:In 2025, Stavanger will mark its 900th anniversary with grand celebrations!
LOCATION:Rosenkildehuset, Strandkaien 6, 4005 Stavanger
END:VEVENT


END:VCALENDAR



