
BEGIN:VCALENDAR
VERSION:2.0
PRODID:-//MarkedsPartner AS//Umbraco CMS//NO
TIMEZONE-ID:Europe/Oslo
X-WR-TIMEZONE:Europe/Oslo


BEGIN:VEVENT
UID:d9cf042b4f424a07bdb57f59425acc13
URL:https://stavangernaering-2023.azurewebsites.net/en/events/archive/startup-eco-system-in-norway_september-2022/
ORGANIZER;CN=Ola Normann:MAILTO:ola.normann@markedspartner.no
DTSTAMP:20220906T163000Z
DTSTART:20220906T163000Z
DTEND:20220906T190000Z
LAST-MODIFIED:20220907T060659Z
SUMMARY:Start-up Eco system in Norway
DESCRIPTION:If you have an idea or dream of starting your own business, please join us for this informal  event. We will share the regional eco system for start-ups.
X-ALT-DESC:If you have an idea or dream of starting your own business, please join us for this informal  event. We will share the regional eco system for start-ups.
LOCATION:Rosenkildehuset,  Strandkaien 6, 4005 Stavanger
END:VEVENT


END:VCALENDAR



