
BEGIN:VCALENDAR
VERSION:2.0
PRODID:-//MarkedsPartner AS//Umbraco CMS//NO
TIMEZONE-ID:Europe/Oslo
X-WR-TIMEZONE:Europe/Oslo


BEGIN:VEVENT
UID:984aee6e434e42e49b41d7fea34d9a1a
URL:https://stavangernaering-2023.azurewebsites.net/en/events/archive/starting-a-business_jan2024/
ORGANIZER;CN=Ola Normann:MAILTO:ola.normann@markedspartner.no
DTSTAMP:20250116T173000Z
DTSTART:20250116T173000Z
DTEND:20250116T201500Z
LAST-MODIFIED:20250117T113149Z
SUMMARY:Starting a business: Making a sales pitch!
DESCRIPTION:Learn how to effectively present your business idea and tell its story.
X-ALT-DESC:Learn how to effectively present your business idea and tell its story.
LOCATION:Rosenkildehuset, Strandkaien 6, 4005 Stavanger
END:VEVENT


END:VCALENDAR



