
BEGIN:VCALENDAR
VERSION:2.0
PRODID:-//MarkedsPartner AS//Umbraco CMS//NO
TIMEZONE-ID:Europe/Oslo
X-WR-TIMEZONE:Europe/Oslo


BEGIN:VEVENT
UID:ede72348d0574a38a162afaaf11b3f3e
URL:https://stavangernaering-2023.azurewebsites.net/en/events/archive/starting-a-business/
ORGANIZER;CN=Ola Normann:MAILTO:ola.normann@markedspartner.no
DTSTAMP:20240924T163000Z
DTSTART:20240924T163000Z
DTEND:20240924T191500Z
LAST-MODIFIED:20241014T082510Z
SUMMARY:Starting a business
DESCRIPTION:Whether it's a service, product, or consultancy, our STARTING A BUSINESS series is the perfect place for inspiration and learning. Join us and take the first step to learn more about running your own company!
X-ALT-DESC:Whether it&#39;s a service, product, or consultancy, our STARTING A BUSINESS series is the perfect place for inspiration and learning. Join us and take the first step to learn more about running your own company!
LOCATION:Rosenkildehuset, Strandkaien 6, 4005 Stavanger
END:VEVENT


END:VCALENDAR



