
BEGIN:VCALENDAR
VERSION:2.0
PRODID:-//MarkedsPartner AS//Umbraco CMS//NO
TIMEZONE-ID:Europe/Oslo
X-WR-TIMEZONE:Europe/Oslo


BEGIN:VEVENT
UID:d0152efda70f4493829c76f981d563d6
URL:https://stavangernaering-2023.azurewebsites.net/en/events/archive/start-up-night_2808/
ORGANIZER;CN=Ola Normann:MAILTO:ola.normann@markedspartner.no
DTSTAMP:20240828T143000Z
DTSTART:20240828T143000Z
DTEND:20240828T180000Z
LAST-MODIFIED:20240830T074603Z
SUMMARY:Join a Start-Up Night 
DESCRIPTION:Welcome to the fifth edition of Join a Start-Up Night at Innoasis. Meet industry leaders, network with innovative startups, and learn about groundbreaking technologies that are shaping the future of sustainability.
X-ALT-DESC:Welcome to the fifth edition of Join a Start-Up Night at Innoasis. Meet industry leaders, network with innovative startups, and learn about groundbreaking technologies that are shaping the future of sustainability.
LOCATION:Innoasis, Sverdrups Gate 27, 4007 Stavanger
END:VEVENT


END:VCALENDAR



