
BEGIN:VCALENDAR
VERSION:2.0
PRODID:-//MarkedsPartner AS//Umbraco CMS//NO
TIMEZONE-ID:Europe/Oslo
X-WR-TIMEZONE:Europe/Oslo


BEGIN:VEVENT
UID:db4b5daf1e924119b3379f01401b9926
URL:https://stavangernaering-2023.azurewebsites.net/en/events/archive/sso_160125/
ORGANIZER;CN=Ola Normann:MAILTO:ola.normann@markedspartner.no
DTSTAMP:20250116T183000Z
DTSTART:20250116T183000Z
DTEND:20250116T203000Z
LAST-MODIFIED:20250117T093708Z
SUMMARY:A concert with the Symphony Orchestra 
DESCRIPTION:Eldbjørg Hemsing is one of the leading young violinists of today, and a global ambassador of classical music who is committed to bringing her art form to new and emerging audiences across the world
X-ALT-DESC:Eldbj&#248;rg Hemsing is one of the leading young violinists of today, and a global ambassador of classical music who is committed to bringing her art form to new and emerging audiences across the world
LOCATION:Stavanger Konserthus 
END:VEVENT


END:VCALENDAR



